BEGIN:VCALENDAR
VERSION:2.0
PRODID:icalendar-ruby
CALSCALE:GREGORIAN
METHOD:PUBLISH
BEGIN:VEVENT
DTSTAMP:20260423T090611Z
UID:541b09bf-4a6e-487f-a0eb-2064134891fa
DTSTART:20191004T120000
DTEND:20191006T190000
DESCRIPTION:<p><span style="background-color: rgb(255\, 255\, 255)\; color:
  rgb(29\, 33\, 41)\;">3\, 2\, 1 aaaaand action  🎥</span></p><p><br></p>
 <p><span style="background-color: rgb(255\, 255\, 255)\; color: rgb(29\, 3
 3\, 41)\;">Last year the collectives kicked down the door and announced th
 emselves in grand-style\, putting on a show that had us all reeling. This 
 year many of the same faces return with a few new ones adding a bit of fla
 va flaav.</span></p><p><br></p><p><span style="background-color: rgb(255\,
  255\, 255)\; color: rgb(29\, 33\, 41)\;">The collectives are once again i
 nvolved in every aspect of the festival. Holding themselves to the highest
  standards\, striving to curate a space perfectly tailored to enjoying the
  weird and wonderful sounds they have in store. With an entire year's wort
 h of experience filled with new influences and sources of inspiration they
  are relishing an opportunity to present what they've been up to. </span><
 /p><p><br></p><p><span style="background-color: rgb(255\, 255\, 255)\; col
 or: rgb(29\, 33\, 41)\;">-------------------------------------------------
 -----</span></p><p><span style="background-color: rgb(255\, 255\, 255)\; c
 olor: rgb(29\, 33\, 41)\;">🎵 RIVERSIDE STAGE:</span></p><p><span style=
 "background-color: rgb(255\, 255\, 255)\; color: rgb(29\, 33\, 41)\;">Frid
 ay: </span></p><p><span style="background-color: rgb(255\, 255\, 255)\; co
 lor: rgb(29\, 33\, 41)\;">12pm-3pm // Mayors of Smalltown</span></p><p><sp
 an style="background-color: rgb(255\, 255\, 255)\; color: rgb(29\, 33\, 41
 )\;">3pm - 9pm // </span><a href="https://www.facebook.com/NotSorryClub/" 
 target="_blank" style="background-color: rgb(255\, 255\, 255)\; color: rgb
 (56\, 88\, 152)\;">Not Sorry Club</a></p><p><span style="background-color:
  rgb(255\, 255\, 255)\; color: rgb(29\, 33\, 41)\;">9pm - 3am // NTSC</spa
 n></p><p><br></p><p><span style="background-color: rgb(255\, 255\, 255)\; 
 color: rgb(29\, 33\, 41)\;">Saturday:</span></p><p><span style="background
 -color: rgb(255\, 255\, 255)\; color: rgb(29\, 33\, 41)\;">10am - 3pm // <
 /span><a href="https://www.facebook.com/PrivateLifeCT/" target="_blank" st
 yle="background-color: rgb(255\, 255\, 255)\; color: rgb(56\, 88\, 152)\;"
 >Private Life</a></p><p><span style="background-color: rgb(255\, 255\, 255
 )\; color: rgb(29\, 33\, 41)\;">3pm - 9pm // </span><a href="https://www.f
 acebook.com/champagnesa/" target="_blank" style="background-color: rgb(255
 \, 255\, 255)\; color: rgb(56\, 88\, 152)\;">Champagne</a></p><p><span sty
 le="background-color: rgb(255\, 255\, 255)\; color: rgb(29\, 33\, 41)\;">9
 pm - 3am // </span><a href="https://www.facebook.com/arkologycollective/" 
 target="_blank" style="background-color: rgb(255\, 255\, 255)\; color: rgb
 (56\, 88\, 152)\;">Arkology</a></p><p><br></p><p><span style="background-c
 olor: rgb(255\, 255\, 255)\; color: rgb(29\, 33\, 41)\;">Sunday:</span></p
 ><p><span style="background-color: rgb(255\, 255\, 255)\; color: rgb(29\, 
 33\, 41)\;">10am - 7pm //  Paradise City (</span><a href="https://www.face
 book.com/ParadiseCityZA/" target="_blank" style="background-color: rgb(255
 \, 255\, 255)\; color: rgb(56\, 88\, 152)\;">Paradise Citizens</a><span st
 yle="background-color: rgb(255\, 255\, 255)\; color: rgb(29\, 33\, 41)\;">
 )</span></p><p><br></p><p><span style="background-color: rgb(255\, 255\, 2
 55)\; color: rgb(29\, 33\, 41)\;">ANG / ARYU JASSIKA / BIODIVE / DARIO LET
 TE / DJ GUY / DJ OKAY / FRED / JAKOBSNAKE / JAY ME / JULZ SANCHEZ /   LANC
 HIELD /  NATIVESOUND / PARADISE CITIZENS /  PIERRE-ESTIENNE / ROB HANNAH /
  SANETRAN / SLOW MOTION CITY / TERRENCE PEARCE / TOMMY GUN / VAT69</span><
 /p><p><span style="background-color: rgb(255\, 255\, 255)\; color: rgb(29\
 , 33\, 41)\;">-------------------------------------------------------</spa
 n></p><p><span style="background-color: rgb(255\, 255\, 255)\; color: rgb(
 29\, 33\, 41)\;">🎵 WAREHOUSE:</span></p><p><span style="background-colo
 r: rgb(255\, 255\, 255)\; color: rgb(29\, 33\, 41)\;">Friday: </span></p><
 p><span style="background-color: rgb(255\, 255\, 255)\; color: rgb(29\, 33
 \, 41)\;">6pm - 12pm // </span><a href="https://www.facebook.com/Mouth2Mou
 thCapeTown/" target="_blank" style="background-color: rgb(255\, 255\, 255)
 \; color: rgb(56\, 88\, 152)\;">Mouth2Mouth</a></p><p><span style="backgro
 und-color: rgb(255\, 255\, 255)\; color: rgb(29\, 33\, 41)\;">12pm - 4am /
 / </span><a href="https://www.facebook.com/databasecpt/" target="_blank" s
 tyle="background-color: rgb(255\, 255\, 255)\; color: rgb(56\, 88\, 152)\;
 ">Database</a></p><p><br></p><p><span style="background-color: rgb(255\, 2
 55\, 255)\; color: rgb(29\, 33\, 41)\;">Saturday:</span></p><p><span style
 ="background-color: rgb(255\, 255\, 255)\; color: rgb(29\, 33\, 41)\;">6pm
  - 12am // </span><a href="https://www.facebook.com/masscpt/" target="_bla
 nk" style="background-color: rgb(255\, 255\, 255)\; color: rgb(56\, 88\, 1
 52)\;">MASS.</a></p><p><span style="background-color: rgb(255\, 255\, 255)
 \; color: rgb(29\, 33\, 41)\;">12am - 6am // </span><a href="https://www.f
 acebook.com/speeddialct/" target="_blank" style="background-color: rgb(255
 \, 255\, 255)\; color: rgb(56\, 88\, 152)\;">Speed Dial</a></p><p><br></p>
 <p><span style="background-color: rgb(255\, 255\, 255)\; color: rgb(29\, 3
 3\, 41)\;">Sunday:</span></p><p><span style="background-color: rgb(255\, 2
 55\, 255)\; color: rgb(29\, 33\, 41)\;">CLOSED</span></p><p><br></p><p><sp
 an style="background-color: rgb(255\, 255\, 255)\; color: rgb(29\, 33\, 41
 )\;">ABSTRACT METHOD / DEANO / DWSON / FARETRADE / FERNANDO / JOAN / MASS 
 SOUNDSYSTEM / PEOPLES OF COLOURS / RE:DAH / SOUND SENSIBLE / STREVER / TRI
 BE CPT</span></p><p><span style="background-color: rgb(255\, 255\, 255)\; 
 color: rgb(29\, 33\, 41)\;">----------------------------------------------
 ---------</span></p><p><span style="background-color: rgb(255\, 255\, 255)
 \; color: rgb(29\, 33\, 41)\;">🎵 FOREST LOUNGE:</span></p><p><span styl
 e="background-color: rgb(255\, 255\, 255)\; color: rgb(29\, 33\, 41)\;">Fr
 iday: </span></p><p><span style="background-color: rgb(255\, 255\, 255)\; 
 color: rgb(29\, 33\, 41)\;">7pm - 6am // </span><a href="https://www.faceb
 ook.com/theotherecords/" target="_blank" style="background-color: rgb(255\
 , 255\, 255)\; color: rgb(56\, 88\, 152)\;">The Other Records</a></p><p><b
 r></p><p><span style="background-color: rgb(255\, 255\, 255)\; color: rgb(
 29\, 33\, 41)\;">Saturday:</span></p><p><span style="background-color: rgb
 (255\, 255\, 255)\; color: rgb(29\, 33\, 41)\;">9am - 3pm // </span><a hre
 f="https://www.facebook.com/Live-Lounge-401173310327283/" target="_blank" 
 style="background-color: rgb(255\, 255\, 255)\; color: rgb(56\, 88\, 152)\
 ;">Live Lounge</a></p><p><span style="background-color: rgb(255\, 255\, 25
 5)\; color: rgb(29\, 33\, 41)\;">3pm - 10pm // </span><a href="https://www
 .facebook.com/SuidTronica/" target="_blank" style="background-color: rgb(2
 55\, 255\, 255)\; color: rgb(56\, 88\, 152)\;">Suid Tronica</a></p><p><spa
 n style="background-color: rgb(255\, 255\, 255)\; color: rgb(29\, 33\, 41)
 \;">10pm - 6am // </span><a href="https://www.facebook.com/theatomcollecti
 ve/" target="_blank" style="background-color: rgb(255\, 255\, 255)\; color
 : rgb(56\, 88\, 152)\;">ATOM</a></p><p><br></p><p><span style="background-
 color: rgb(255\, 255\, 255)\; color: rgb(29\, 33\, 41)\;">Sunday:</span></
 p><p><span style="background-color: rgb(255\, 255\, 255)\; color: rgb(29\,
  33\, 41)\;">10am - 4pm // </span><a href="https://www.facebook.com/DeeTo-
 Sessions-360357384145042/" target="_blank" style="background-color: rgb(25
 5\, 255\, 255)\; color: rgb(56\, 88\, 152)\;">DeeTo Sessions</a></p><p><br
 ></p><p><span style="background-color: rgb(255\, 255\, 255)\; color: rgb(2
 9\, 33\, 41)\;">BAKAI (LIVE) / CODY LOSPER / CTHULHU (LIVE) / IRSHAAD SAMA
 AI / LEEU (LIVE) / LEMONELLA / LYON & IMESIM / MEGAN JANE / MIKEY / MVELO 
 / PAZ SHINA ENSEMBLE (LIVE) / SCHUMI / SIPHE TEBEKA / SHIFT MAWELELE / T-S
 HIRT MATERIAL (LIVE) / THE OTHER DJS / VELLY CEKISO / XEE & CODEKID (LIVE)
 </span></p><p><span style="background-color: rgb(255\, 255\, 255)\; color:
  rgb(29\, 33\, 41)\;">----------------------------------------------------
 ---</span></p><p><br></p><p><span style="background-color: rgb(255\, 255\,
  255)\; color: rgb(29\, 33\, 41)\;">🎫 TICKETS [full weekend]:</span></p
 ><p><span style="background-color: rgb(255\, 255\, 255)\; color: rgb(29\, 
 33\, 41)\;">Early Bird: // R360  </span></p><p><span style="background-col
 or: rgb(255\, 255\, 255)\; color: rgb(29\, 33\, 41)\;">Phase 1 : // R450  
  </span></p><p><span style="background-color: rgb(255\, 255\, 255)\; color
 : rgb(29\, 33\, 41)\;">Phase 2: // R550  </span></p><p><span style="backgr
 ound-color: rgb(255\, 255\, 255)\; color: rgb(29\, 33\, 41)\;">Phase 3 : /
 / R650 </span></p><p><br></p><p><span style="background-color: rgb(255\, 2
 55\, 255)\; color: rgb(29\, 33\, 41)\;">This is an all access ticket and i
 ncludes access to the: Main Festival Area\, Camping Grounds\; Ablutions an
 d Showers.</span></p><p><br></p><p><span style="background-color: rgb(255\
 , 255\, 255)\; color: rgb(29\, 33\, 41)\;">[Sunday Ticket] :</span></p><p>
 <span style="background-color: rgb(255\, 255\, 255)\; color: rgb(29\, 33\,
  41)\;">More information to follow</span></p><p><br></p><p><span style="ba
 ckground-color: rgb(255\, 255\, 255)\; color: rgb(29\, 33\, 41)\;">🎫 Ge
 t your tickets here: </span></p><p><a href="http://www.smalltownbeat.com/?
 fbclid=IwAR1QSnG-RO9lfC203M0SGQqMBrF9Qr8W7hZtqfiYUeucyClHhgpm2v3GyXo" targ
 et="_blank" style="background-color: rgb(255\, 255\, 255)\; color: rgb(56\
 , 88\, 152)\;">www.smalltownbeat.com</a></p><p><br></p><p><span style="bac
 kground-color: rgb(255\, 255\, 255)\; color: rgb(29\, 33\, 41)\;">////////
 /////////////////////////\\\\\\\\\\\\\\\\\\\\\\\\\\\\\\\\\\</span></p><p><
 br></p><p><span style="background-color: rgb(255\, 255\, 255)\; color: rgb
 (29\, 33\, 41)\;">AGE LIMIT: Strictly No person born after 1999 (i.e 2000 
 onward) will be permitted entrance to the event. ID will be checked on ent
 ry.</span></p><p><span style="background-color: rgb(255\, 255\, 255)\; col
 or: rgb(29\, 33\, 41)\;">*STB does not hold accountability for patrons ina
 bility to read AGE LIMIT specifications*</span></p><p><br></p><p><span sty
 le="background-color: rgb(255\, 255\, 255)\; color: rgb(29\, 33\, 41)\;">
 ♻ Rubbish Deposits ♻:</span></p><p><span style="background-color: rgb(
 255\, 255\, 255)\; color: rgb(29\, 33\, 41)\;">Upon entering the festival\
 , it will be compulsory to pay a R50 rubbish deposit. When paying the depo
 sit\, you will be handed an empty rubbish bag. You will get your R50 depos
 it back when exiting the festival grounds\, with your  rubbish bag full - 
 containing the waste from your campsite. [This will be strictly implemente
 d - we would love you to use your best efforts to leave the nature how it 
 was when you arrived]</span></p><p><span style="background-color: rgb(255\
 , 255\, 255)\; color: rgb(29\, 33\, 41)\;">- all unclaimed deposits are do
 nated to the Walker Bay Fynbos conservancy.</span></p><p><br></p><p><span 
 style="background-color: rgb(255\, 255\, 255)\; color: rgb(29\, 33\, 41)\;
 ">⛺ Camping:</span></p><p><span style="background-color: rgb(255\, 255\,
  255)\; color: rgb(29\, 33\, 41)\;">All Full Weekend Tickets come with acc
 ess to the camping ground. </span></p><p><span style="background-color: rg
 b(255\, 255\, 255)\; color: rgb(29\, 33\, 41)\;">Alcohol is allowed into t
 he Camping Area [strictly no glass]. Alcohol is not permitted into the fes
 tival area from the camping area due to liquor licensing laws. </span></p>
 <p><br></p><p><span style="background-color: rgb(255\, 255\, 255)\; color:
  rgb(29\, 33\, 41)\;">We will permit people to spend Sunday night in the c
 amping grounds if they would like to spend another night underneath the st
 ars\, if you do not feel up to driving home. </span></p><p><br></p><p><spa
 n style="background-color: rgb(255\, 255\, 255)\; color: rgb(29\, 33\, 41)
 \;">🍝 Food: </span></p><p><span style="background-color: rgb(255\, 255\
 , 255)\; color: rgb(29\, 33\, 41)\;">A wide range of food stalls will be a
 vailable\, catering for everyone. With a big selection of vegan and vegeta
 rian option\, as well as coffee's and deserts.</span></p><p><br></p><p><sp
 an style="background-color: rgb(255\, 255\, 255)\; color: rgb(29\, 33\, 41
 )\;">🖼 Art Installations:</span></p><p><span style="background-color: r
 gb(255\, 255\, 255)\; color: rgb(29\, 33\, 41)\;">If you would like to par
 ticipate in the production and display of personal and festival based art 
 installations\, please don't hesitate to contact us at admin@smalltownbeat
 .com</span></p><p><span style="background-color: rgb(255\, 255\, 255)\; co
 lor: rgb(29\, 33\, 41)\;"> </span></p><p><span style="background-color: rg
 b(255\, 255\, 255)\; color: rgb(29\, 33\, 41)\;">Volunteering:</span></p><
 p><span style="background-color: rgb(255\, 255\, 255)\; color: rgb(29\, 33
 \, 41)\;">More information coming soon.</span></p><p><br></p><p><span styl
 e="background-color: rgb(255\, 255\, 255)\; color: rgb(29\, 33\, 41)\;">
 👕 Art and Clothing Exhibitions:</span></p><p><span style="background-co
 lor: rgb(255\, 255\, 255)\; color: rgb(29\, 33\, 41)\;">A variety of cloth
 ing stalls and markets will be on display should you feel the need to pick
  up something nice.</span></p><p><br></p><p><span style="background-color:
  rgb(255\, 255\, 255)\; color: rgb(29\, 33\, 41)\;">🚙 Parking levies:</
 span></p><p><span style="background-color: rgb(255\, 255\, 255)\; color: r
 gb(29\, 33\, 41)\;">Minimizing our footprint on the environment is of utmo
 st importance. We've cleared the exact amount of land required for parking
  and no more. There are a couple incentives in place to encourage ride sha
 ring for the event:</span></p><p><span style="background-color: rgb(255\, 
 255\, 255)\; color: rgb(29\, 33\, 41)\;">Parking Levy per car: R150.</span
 ></p><p><span style="background-color: rgb(255\, 255\, 255)\; color: rgb(2
 9\, 33\, 41)\;">- for every car with 4 people in it\, each person gets a c
 omplimentary shot of tequila on arrival\, made possible by Altos Tequila S
 A. This also results in a reduced parking fee of R35 per person\;</span></
 p><p><span style="background-color: rgb(255\, 255\, 255)\; color: rgb(29\,
  33\, 41)\;">** PARKING ON SUNDAY IS FREE **</span></p><p><br></p><p><span
  style="background-color: rgb(255\, 255\, 255)\; color: rgb(29\, 33\, 41)\
 ;">Disclaimer:</span></p><p><span style="background-color: rgb(255\, 255\,
  255)\; color: rgb(29\, 33\, 41)\;">The organisers do not assume any respo
 nsibility for loss or damage to any property brought onto the premises nor
  for any loss of life or damage to persons. No weapons or illegal substanc
 es allowed. </span></p><p><br></p><p><span style="background-color: rgb(25
 5\, 255\, 255)\; color: rgb(29\, 33\, 41)\;">********R.O.A.R*********</spa
 n></p>
LOCATION:STB
SUMMARY:Smalltown Beat 2019
URL;VALUE=URI:https://smalltownbeat.howler.co.za/smalltownbeat2019
END:VEVENT
END:VCALENDAR
